{"text_format":"1","workbook":"xlsx","n_sheets":2,"sheets":["Worksheet","SYSTEM FORMULAE"],"not_rendered":{"charts":0,"images":0,"macros":1,"external_links":0,"defined_names":2,"comments":0,"pivot_tables":0},"unopened":[],"bounds":{"document_bytes":16777216,"sheet_cells":100000,"rows_first":2000,"rows_last":500,"rows_between":2000,"halvings":0,"cell_chars":16384,"cell_head_chars":4096},"cells_cut":0,"cells_raw":0,"read":"whole","date_system":"1900"}

{"sheet":"Worksheet","index":0,"n_rows":13,"n_cols":51,"rows_kept":13,"cut":false,"hidden":false,"merged":[[1,0,1,1],[4,0,4,1],[0,2,0,41]]}
[null,null,{"$f":"CONCATENATE(\"Solve each \",IF(B6=1,\"equation \",IF(B6=2,\"inequation \",\"equation or inequation \")),IF($B$11,\"giving your answer in its simplest form\",\"\"))","v":"Solve each equation or inequation "}]
["Variables",null,1,9,"m","–",67,"","≤",8,"","–",6,"m","m","≤",5,5,1,"m",1,2,9,-6,8,-6,null,13,8,"k","+",47,"","=",1,"k","+",12,"","k","=","–5",-5,1,"k",1,1,8,1,12,1]
["SHOW ANSWERS",false,2,9,"x","–",26,"","<",2,"x","+",2,"","x","<",4,4,1,"x",1,1,9,2,2,2,null,14,9,"w","+",86,"","=",30,"","–",5,"w","w","=","–4",-4,1,"w",1,2,9,-5,30,-5]
["Number of questions (minimum 10, maximum 24)",24,3,4,"x","+",28,"","<",1,"x","+",10,"","x","<","–6",-6,1,"x",1,1,4,1,10,1,null,15,10,"k","+",17,"","<",7,"k","+",8,"","k","<","–3",-3,1,"k",1,1,10,7,8,7]
["Types of question",null,4,5,"m","+",37,"","=",34,"","+",2,"m","m","=","–1",-1,1,"m",1,2,5,2,34,2,null,16,4,"c","+",32,"","≤",3,"c","+",38,"","c","≤",6,6,1,"c",1,1,4,3,38,3]
["Equations only",3,5,9,"h","+",23,"","≥",20,"","+",8,"h","h","≥","–3",-3,1,"h",1,2,9,8,20,8,null,17,4,"x","+",19,"","<",4,"","+",1,"x","x","<","–5",-5,1,"x",1,2,4,1,4,1]
["Inequations only",0,6,3,"z","+",24,"","=",2,"z","+",16,"","z","=","–8",-8,1,"z",1,1,3,2,16,2,null,18,10,"a","+",2,"","≤",3,"a","+",30,"","a","≤",4,4,1,"a",1,1,10,3,30,3]
["Mixed equations and inequations",0,7,9,"j","+",62,"","<",5,"j","+",38,"","j","<","–6",-6,1,"j",1,1,9,5,38,5,null,19,3,"x","+",56,"","=",36,"","–",1,"x","x","=","–5",-5,1,"x",1,2,3,-1,36,-1]
["Level of Difficulty",null,8,7,"m","–",18,"","=",4,"m","+",12,"","m","=",10,10,1,"m",1,1,7,4,12,4,null,20,3,"z","+",40,"","=",2,"z","+",36,"","z","=","–4",-4,1,"z",1,1,3,2,36,2]
["Allow negative solutions?",true,9,4,"n","+",46,"","=",32,"","+",2,"n","n","=","–7",-7,1,"n",1,2,4,2,32,2,null,21,4,"s","–",54,"","=",6,"","–",2,"s","s","=",10,10,1,"s",1,2,4,-2,6,-2]
["Allow rational solutions?",false,10,10,"a","–",28,"","≤",5,"a","+",2,"","a","≤",6,6,1,"a",1,1,10,5,2,5,null,22,9,"y","–",138,"",">",32,"","–",8,"y","y",">",10,10,1,"y",1,2,9,-8,32,-8]
[{"$f":"CONCATENATE(\"Maximum \",IF($B$10,\"absolute \",\"\"),\"value of solution\")","v":"Maximum absolute value of solution"},10,11,3,"x","+",4,"","=",28,"","–",1,"x","x","=",6,6,1,"x",1,2,3,-1,28,-1,null,23,9,"w","–",6,"","≥",5,"w","+",30,"","w","≥",9,9,1,"w",1,1,9,5,30,5]
["Allow negative constant on RHS?",false,12,8,"z","+",33,"","=",12,"","+",5,"z","z","=","–7",-7,1,"z",1,2,8,5,12,5,null,24,9,"a","–",37,"","=",26,"","+",2,"a","a","=",9,9,1,"a",1,2,9,2,26,2]

{"sheet":"SYSTEM FORMULAE","index":1,"n_rows":31,"n_cols":49,"rows_kept":31,"cut":false,"hidden":false,"merged":[]}
[null,"a",null,null,"b",null,null,"c",null,null,"d",null,null,null,"ans","m","n",null,"LHS","RHS","a or b","c or d","d or c",null,null,null,"a",null,null,"b",null,null,"c",null,null,"d",null,null,null,"ans","m","n",null,"LHS","RHS","a or b","c or d","b or a"]
[{"$f":"IF(ROW()-1<=Worksheet!$B$4/2,ROW()-1,\"\")","v":1},{"$f":"IF(S2=1,U2,IF(T2=1,K2-P2*(E2-H2)/Q2,H2-P2*(E2-K2)/Q2))","v":4},{"$f":"IF(S2=1,R2,\"\")","v":"s"},{"$f":"IF(E2<0,\"–\",\"+\")","v":"+"},{"$f":"IF(S2=2,U2,IF(T2=1,K2-P2*(B2-H2)/Q2,H2-P2*(B2-K2)/Q2))","v":12},{"$f":"IF(S2=2,R2,\"\")","v":""},{"$f":"IF(Worksheet!$B$6=1,\"=\",IF(Worksheet!$B$6=2,CHOOSE(RANDBETWEEN(1,4),\"<\",\">\",\"≤\",\"≥\"),CHOOSE(RANDBETWEEN(1,2),\"=\",CHOOSE(RANDBETWEEN(1,4),\"<\",\">\",\"≤\",\"≥\"))))","v":"="},{"$f":"IF(T2=1,V2,W2)","v":1},{"$f":"IF(T2=1,R2,\"\")","v":"s"},{"$f":"IF(K2<0,\"–\",\"+\")","v":"+"},{"$f":"IF(T2=2,V2,W2)","v":30},{"$f":"IF(T2=2,R2,\"\")","v":""},{"$f":"R2","v":"s"},{"$f":"G2","v":"="},{"$f":"IF(MOD(P2,Q2)=0,P2/Q2,TEXT(P2/Q2,\"##/##\"))","v":6},{"$f":"RANDBETWEEN(1,Worksheet!$B$12*Q2)*(-1)^RANDBETWEEN(IF(Worksheet!$B$10,1,2),2)","v":6},{"$f":"IF(Worksheet!$B$11,RANDBETWEEN(1,5),1)","v":1},{"$f":"CHOOSE(RANDBETWEEN(1,24),\"x\",\"x\",\"x\",\"a\",\"y\",\"y\",\"y\",\"a\",\"b\",\"c\",\"g\",\"h\",\"j\",\"k\",\"m\",\"n\",\"p\",\"q\",\"s\",\"u\",\"v\",\"z\",\"z\",\"w\")","v":"s"},1,{"$f":"IF(V2<0,2,IF(RAND()<0.75,1,2))","v":1},{"$f":"RANDBETWEEN(2,10)","v":4},{"$f":"IF(X2=0,X2+Q2,X2)","v":1},{"$f":"RANDBETWEEN(1,20)*IF(Worksheet!$B$13,(-1)^RANDBETWEEN(IF(V2<0,2,1),2),2)","v":30},{"$f":"IF(Q2=1,RANDBETWEEN(1,U2-1)*IF(RAND()<0.5,1,(-1)^RANDBETWEEN(1,2)),U2-Q2*RANDBETWEEN(2,MAX(2,5-Q2)))","v":1},null,{"$f":"MAX(A2:A15)+1","v":13},{"$f":"IF(AR2=1,AT2,IF(AS2=1,AJ2-AO2*(AD2-AG2)/AP2,AG2-AO2*(AD2-AJ2)/AP2))","v":8},{"$f":"IF(AR2=1,AQ2,\"\")","v":"m"},{"$f":"IF(AD2<0,\"–\",\"+\")","v":"+"},{"$f":"IF(AR2=2,AT2,IF(AS2=1,AJ2-AO2*(AA2-AG2)/AP2,AG2-AO2*(AA2-AJ2)/AP2))","v":64},{"$f":"IF(AR2=2,AQ2,\"\")","v":""},{"$f":"IF(Worksheet!$B$6=1,\"=\",IF(Worksheet!$B$6=2,CHOOSE(RANDBETWEEN(1,4),\"<\",\">\",\"≤\",\"≥\"),CHOOSE(RANDBETWEEN(1,2),\"=\",CHOOSE(RANDBETWEEN(1,4),\"<\",\">\",\"≤\",\"≥\"))))","v":"="},{"$f":"IF(AS2=1,AU2,AV2)","v":22},{"$f":"IF(AS2=1,AQ2,\"\")","v":""},{"$f":"IF(AJ2<0,\"–\",\"+\")","v":"+"},{"$f":"IF(AS2=2,AU2,AV2)","v":2},{"$f":"IF(AS2=2,AQ2,\"\")","v":"m"},{"$f":"AQ2","v":"m"},{"$f":"AF2","v":"="},{"$f":"IF(MOD(AO2,AP2)=0,AO2/AP2,TEXT(AO2/AP2,\"##/##\"))","v":-7},{"$f":"RANDBETWEEN(1,Worksheet!$B$12*AP2)*(-1)^RANDBETWEEN(IF(Worksheet!$B$10,1,2),2)","v":-7},{"$f":"IF(Worksheet!$B$11,RANDBETWEEN(1,5),1)","v":1},{"$f":"CHOOSE(RANDBETWEEN(1,24),\"x\",\"x\",\"x\",\"a\",\"y\",\"y\",\"y\",\"a\",\"b\",\"c\",\"g\",\"h\",\"j\",\"k\",\"m\",\"n\",\"p\",\"q\",\"s\",\"u\",\"v\",\"z\",\"z\",\"w\")","v":"m"},1,{"$f":"IF(AU2<0,2,IF(RAND()<0.75,1,2))","v":2},{"$f":"RANDBETWEEN(2,10)","v":8},{"$f":"IF(AW2=0,AW2+AP2,AW2)","v":2},{"$f":"RANDBETWEEN(1,20)*IF(Worksheet!$B$13,(-1)^RANDBETWEEN(IF(AU2<0,2,1),2),2)","v":22},{"$f":"IF(AP2=1,RANDBETWEEN(1,AT2-1)*IF(RAND()<0.5,1,(-1)^RANDBETWEEN(1,2)),AT2-AP2*RANDBETWEEN(2,MAX(2,5-AP2)))","v":2}]
[{"$f":"IF(ROW()-1<=Worksheet!$B$4/2,ROW()-1,\"\")","v":2},{"$f":"IF(S3=1,U3,IF(T3=1,K3-P3*(E3-H3)/Q3,H3-P3*(E3-K3)/Q3))","v":2},{"$f":"IF(S3=1,R3,\"\")","v":"g"},{"$f":"IF(E3<0,\"–\",\"+\")","v":"+"},{"$f":"IF(S3=2,U3,IF(T3=1,K3-P3*(B3-H3)/Q3,H3-P3*(B3-K3)/Q3))","v":23},{"$f":"IF(S3=2,R3,\"\")","v":""},{"$f":"IF(Worksheet!$B$6=1,\"=\",IF(Worksheet!$B$6=2,CHOOSE(RANDBETWEEN(1,4),\"<\",\">\",\"≤\",\"≥\"),CHOOSE(RANDBETWEEN(1,2),\"=\",CHOOSE(RANDBETWEEN(1,4),\"<\",\">\",\"≤\",\"≥\"))))","v":"="},{"$f":"IF(T3=1,V3,W3)","v":1},{"$f":"IF(T3=1,R3,\"\")","v":"g"},{"$f":"IF(K3<0,\"–\",\"+\")","v":"+"},{"$f":"IF(T3=2,V3,W3)","v":30},{"$f":"IF(T3=2,R3,\"\")","v":""},{"$f":"R3","v":"g"},{"$f":"G3","v":"="},{"$f":"IF(MOD(P3,Q3)=0,P3/Q3,TEXT(P3/Q3,\"##/##\"))","v":7},{"$f":"RANDBETWEEN(1,Worksheet!$B$12*Q3)*(-1)^RANDBETWEEN(IF(Worksheet!$B$10,1,2),2)","v":7},{"$f":"IF(Worksheet!$B$11,RANDBETWEEN(1,5),1)","v":1},{"$f":"CHOOSE(RANDBETWEEN(1,24),\"x\",\"x\",\"x\",\"a\",\"y\",\"y\",\"y\",\"a\",\"b\",\"c\",\"g\",\"h\",\"j\",\"k\",\"m\",\"n\",\"p\",\"q\",\"s\",\"u\",\"v\",\"z\",\"z\",\"w\")","v":"g"},1,{"$f":"IF(V3<0,2,IF(RAND()<0.75,1,2))","v":1},{"$f":"RANDBETWEEN(2,10)","v":2},{"$f":"IF(X3=0,X3+Q3,X3)","v":1},{"$f":"RANDBETWEEN(1,20)*IF(Worksheet!$B$13,(-1)^RANDBETWEEN(IF(V3<0,2,1),2),2)","v":30},{"$f":"IF(Q3=1,RANDBETWEEN(1,U3-1)*IF(RAND()<0.5,1,(-1)^RANDBETWEEN(1,2)),U3-Q3*RANDBETWEEN(2,MAX(2,5-Q3)))","v":1},null,{"$f":"IF(ROW()-1<=Worksheet!$B$4/2,Z2+1,\"\")","v":14},{"$f":"IF(AR3=1,AT3,IF(AS3=1,AJ3-AO3*(AD3-AG3)/AP3,AG3-AO3*(AD3-AJ3)/AP3))","v":6},{"$f":"IF(AR3=1,AQ3,\"\")","v":"h"},{"$f":"IF(AD3<0,\"–\",\"+\")","v":"+"},{"$f":"IF(AR3=2,AT3,IF(AS3=1,AJ3-AO3*(AA3-AG3)/AP3,AG3-AO3*(AA3-AJ3)/AP3))","v":48},{"$f":"IF(AR3=2,AQ3,\"\")","v":""},{"$f":"IF(Worksheet!$B$6=1,\"=\",IF(Worksheet!$B$6=2,CHOOSE(RANDBETWEEN(1,4),\"<\",\">\",\"≤\",\"≥\"),CHOOSE(RANDBETWEEN(1,2),\"=\",CHOOSE(RANDBETWEEN(1,4),\"<\",\">\",\"≤\",\"≥\"))))","v":"="},{"$f":"IF(AS3=1,AU3,AV3)","v":28},{"$f":"IF(AS3=1,AQ3,\"\")","v":""},{"$f":"IF(AJ3<0,\"–\",\"+\")","v":"+"},{"$f":"IF(AS3=2,AU3,AV3)","v":2},{"$f":"IF(AS3=2,AQ3,\"\")","v":"h"},{"$f":"AQ3","v":"h"},{"$f":"AF3","v":"="},{"$f":"IF(MOD(AO3,AP3)=0,AO3/AP3,TEXT(AO3/AP3,\"##/##\"))","v":-5},{"$f":"RANDBETWEEN(1,Worksheet!$B$12*AP3)*(-1)^RANDBETWEEN(IF(Worksheet!$B$10,1,2),2)","v":-5},{"$f":"IF(Worksheet!$B$11,RANDBETWEEN(1,5),1)","v":1},{"$f":"CHOOSE(RANDBETWEEN(1,24),\"x\",\"x\",\"x\",\"a\",\"y\",\"y\",\"y\",\"a\",\"b\",\"c\",\"g\",\"h\",\"j\",\"k\",\"m\",\"n\",\"p\",\"q\",\"s\",\"u\",\"v\",\"z\",\"z\",\"w\")","v":"h"},1,{"$f":"IF(AU3<0,2,IF(RAND()<0.75,1,2))","v":2},{"$f":"RANDBETWEEN(2,10)","v":6},{"$f":"IF(AW3=0,AW3+AP3,AW3)","v":2},{"$f":"RANDBETWEEN(1,20)*IF(Worksheet!$B$13,(-1)^RANDBETWEEN(IF(AU3<0,2,1),2),2)","v":28},{"$f":"IF(AP3=1,RANDBETWEEN(1,AT3-1)*IF(RAND()<0.5,1,(-1)^RANDBETWEEN(1,2)),AT3-AP3*RANDBETWEEN(2,MAX(2,5-AP3)))","v":2}]
[{"$f":"IF(ROW()-1<=Worksheet!$B$4/2,ROW()-1,\"\")","v":3},2,"a","+",16,"",{"$f":"IF(Worksheet!$B$6=1,\"=\",IF(Worksheet!$B$6=2,CHOOSE(RANDBETWEEN(1,4),\"<\",\">\",\"≤\",\"≥\"),CHOOSE(RANDBETWEEN(1,2),\"=\",CHOOSE(RANDBETWEEN(1,4),\"<\",\">\",\"≤\",\"≥\"))))","v":"≥"},1,"a","+",22,"","a","≥",6,{"$f":"RANDBETWEEN(1,Worksheet!$B$12*Q4)*(-1)^RANDBETWEEN(IF(Worksheet!$B$10,1,2),2)","v":6},{"$f":"IF(Worksheet!$B$11,RANDBETWEEN(1,5),1)","v":1},"a",1,1,2,1,{"$f":"RANDBETWEEN(1,20)*IF(Worksheet!$B$13,(-1)^RANDBETWEEN(IF(V4<0,2,1),2),2)","v":22},1,null,{"$f":"IF(ROW()-1<=Worksheet!$B$4/2,Z3+1,\"\")","v":15},2,"a","+",44,"",{"$f":"IF(Worksheet!$B$6=1,\"=\",IF(Worksheet!$B$6=2,CHOOSE(RANDBETWEEN(1,4),\"<\",\">\",\"≤\",\"≥\"),CHOOSE(RANDBETWEEN(1,2),\"=\",CHOOSE(RANDBETWEEN(1,4),\"<\",\">\",\"≤\",\"≥\"))))","v":"≥"},1,"a","+",36,"","a","≥",-8,{"$f":"RANDBETWEEN(1,Worksheet!$B$12*AP4)*(-1)^RANDBETWEEN(IF(Worksheet!$B$10,1,2),2)","v":-8},{"$f":"IF(Worksheet!$B$11,RANDBETWEEN(1,5),1)","v":1},"a",1,1,2,1,{"$f":"RANDBETWEEN(1,20)*IF(Worksheet!$B$13,(-1)^RANDBETWEEN(IF(AU4<0,2,1),2),2)","v":36},1]
[{"$f":"IF(ROW()-1<=Worksheet!$B$4/2,ROW()-1,\"\")","v":4},2,"j","+",23,"",{"$f":"IF(Worksheet!$B$6=1,\"=\",IF(Worksheet!$B$6=2,CHOOSE(RANDBETWEEN(1,4),\"<\",\">\",\"≤\",\"≥\"),CHOOSE(RANDBETWEEN(1,2),\"=\",CHOOSE(RANDBETWEEN(1,4),\"<\",\">\",\"≤\",\"≥\"))))","v":"≤"},1,"j","+",30,"","j","≤",7,{"$f":"RANDBETWEEN(1,Worksheet!$B$12*Q5)*(-1)^RANDBETWEEN(IF(Worksheet!$B$10,1,2),2)","v":7},{"$f":"IF(Worksheet!$B$11,RANDBETWEEN(1,5),1)","v":1},"j",1,1,2,1,{"$f":"RANDBETWEEN(1,20)*IF(Worksheet!$B$13,(-1)^RANDBETWEEN(IF(V5<0,2,1),2),2)","v":30},1,null,{"$f":"IF(ROW()-1<=Worksheet!$B$4/2,Z4+1,\"\")","v":16},4,"m","+",1,"",{"$f":"IF(Worksheet!$B$6=1,\"=\",IF(Worksheet!$B$6=2,CHOOSE(RANDBETWEEN(1,4),\"<\",\">\",\"≤\",\"≥\"),CHOOSE(RANDBETWEEN(1,2),\"=\",CHOOSE(RANDBETWEEN(1,4),\"<\",\">\",\"≤\",\"≥\"))))","v":"="},1,"m","+",28,"","m","=",9,{"$f":"RANDBETWEEN(1,Worksheet!$B$12*AP5)*(-1)^RANDBETWEEN(IF(Worksheet!$B$10,1,2),2)","v":9},{"$f":"IF(Worksheet!$B$11,RANDBETWEEN(1,5),1)","v":1},"m",1,1,4,1,{"$f":"RANDBETWEEN(1,20)*IF(Worksheet!$B$13,(-1)^RANDBETWEEN(IF(AU5<0,2,1),2),2)","v":28},1]
[{"$f":"IF(ROW()-1<=Worksheet!$B$4/2,ROW()-1,\"\")","v":5},9,"x","+",1,"",{"$f":"IF(Worksheet!$B$6=1,\"=\",IF(Worksheet!$B$6=2,CHOOSE(RANDBETWEEN(1,4),\"<\",\">\",\"≤\",\"≥\"),CHOOSE(RANDBETWEEN(1,2),\"=\",CHOOSE(RANDBETWEEN(1,4),\"<\",\">\",\"≤\",\"≥\"))))","v":"≤"},8,"x","+",10,"","x","≤",9,{"$f":"RANDBETWEEN(1,Worksheet!$B$12*Q6)*(-1)^RANDBETWEEN(IF(Worksheet!$B$10,1,2),2)","v":9},{"$f":"IF(Worksheet!$B$11,RANDBETWEEN(1,5),1)","v":1},"x",1,1,9,8,{"$f":"RANDBETWEEN(1,20)*IF(Worksheet!$B$13,(-1)^RANDBETWEEN(IF(V6<0,2,1),2),2)","v":10},8,null,{"$f":"IF(ROW()-1<=Worksheet!$B$4/2,Z5+1,\"\")","v":17},8,"z","+",30,"",{"$f":"IF(Worksheet!$B$6=1,\"=\",IF(Worksheet!$B$6=2,CHOOSE(RANDBETWEEN(1,4),\"<\",\">\",\"≤\",\"≥\"),CHOOSE(RANDBETWEEN(1,2),\"=\",CHOOSE(RANDBETWEEN(1,4),\"<\",\">\",\"≤\",\"≥\"))))","v":"<"},12,"","–",-1,"z","z","<",-2,{"$f":"RANDBETWEEN(1,Worksheet!$B$12*AP6)*(-1)^RANDBETWEEN(IF(Worksheet!$B$10,1,2),2)","v":-2},{"$f":"IF(Worksheet!$B$11,RANDBETWEEN(1,5),1)","v":1},"z",1,2,8,-1,{"$f":"RANDBETWEEN(1,20)*IF(Worksheet!$B$13,(-1)^RANDBETWEEN(IF(AU6<0,2,1),2),2)","v":12},-1]
[{"$f":"IF(ROW()-1<=Worksheet!$B$4/2,ROW()-1,\"\")","v":6},10,"p","+",115,"",{"$f":"IF(Worksheet!$B$6=1,\"=\",IF(Worksheet!$B$6=2,CHOOSE(RANDBETWEEN(1,4),\"<\",\">\",\"≤\",\"≥\"),CHOOSE(RANDBETWEEN(1,2),\"=\",CHOOSE(RANDBETWEEN(1,4),\"<\",\">\",\"≤\",\"≥\"))))","v":"="},20,"","–",-9,"p","p","=",-5,{"$f":"RANDBETWEEN(1,Worksheet!$B$12*Q7)*(-1)^RANDBETWEEN(IF(Worksheet!$B$10,1,2),2)","v":-5},{"$f":"IF(Worksheet!$B$11,RANDBETWEEN(1,5),1)","v":1},"p",1,2,10,-9,{"$f":"RANDBETWEEN(1,20)*IF(Worksheet!$B$13,(-1)^RANDBETWEEN(IF(V7<0,2,1),2),2)","v":20},-9,null,{"$f":"IF(ROW()-1<=Worksheet!$B$4/2,Z6+1,\"\")","v":18},7,"m","–",-18,"",{"$f":"IF(Worksheet!$B$6=1,\"=\",IF(Worksheet!$B$6=2,CHOOSE(RANDBETWEEN(1,4),\"<\",\">\",\"≤\",\"≥\"),CHOOSE(RANDBETWEEN(1,2),\"=\",CHOOSE(RANDBETWEEN(1,4),\"<\",\">\",\"≤\",\"≥\"))))","v":"≤"},3,"m","+",6,"","m","≤",6,{"$f":"RANDBETWEEN(1,Worksheet!$B$12*AP7)*(-1)^RANDBETWEEN(IF(Worksheet!$B$10,1,2),2)","v":6},{"$f":"IF(Worksheet!$B$11,RANDBETWEEN(1,5),1)","v":1},"m",1,1,7,3,{"$f":"RANDBETWEEN(1,20)*IF(Worksheet!$B$13,(-1)^RANDBETWEEN(IF(AU7<0,2,1),2),2)","v":6},3]
[{"$f":"IF(ROW()-1<=Worksheet!$B$4/2,ROW()-1,\"\")","v":7},2,"z","+",4,"",{"$f":"IF(Worksheet!$B$6=1,\"=\",IF(Worksheet!$B$6=2,CHOOSE(RANDBETWEEN(1,4),\"<\",\">\",\"≤\",\"≥\"),CHOOSE(RANDBETWEEN(1,2),\"=\",CHOOSE(RANDBETWEEN(1,4),\"<\",\">\",\"≤\",\"≥\"))))","v":"="},1,"z","+",12,"","z","=",8,{"$f":"RANDBETWEEN(1,Worksheet!$B$12*Q8)*(-1)^RANDBETWEEN(IF(Worksheet!$B$10,1,2),2)","v":8},{"$f":"IF(Worksheet!$B$11,RANDBETWEEN(1,5),1)","v":1},"z",1,1,2,1,{"$f":"RANDBETWEEN(1,20)*IF(Worksheet!$B$13,(-1)^RANDBETWEEN(IF(V8<0,2,1),2),2)","v":12},1,null,{"$f":"IF(ROW()-1<=Worksheet!$B$4/2,Z7+1,\"\")","v":19},9,"h","+",37,"",{"$f":"IF(Worksheet!$B$6=1,\"=\",IF(Worksheet!$B$6=2,CHOOSE(RANDBETWEEN(1,4),\"<\",\">\",\"≤\",\"≥\"),CHOOSE(RANDBETWEEN(1,2),\"=\",CHOOSE(RANDBETWEEN(1,4),\"<\",\">\",\"≤\",\"≥\"))))","v":"="},6,"h","+",22,"","h","=",-5,{"$f":"RANDBETWEEN(1,Worksheet!$B$12*AP8)*(-1)^RANDBETWEEN(IF(Worksheet!$B$10,1,2),2)","v":-5},{"$f":"IF(Worksheet!$B$11,RANDBETWEEN(1,5),1)","v":1},"h",1,1,9,6,{"$f":"RANDBETWEEN(1,20)*IF(Worksheet!$B$13,(-1)^RANDBETWEEN(IF(AU8<0,2,1),2),2)","v":22},6]
[{"$f":"IF(ROW()-1<=Worksheet!$B$4/2,ROW()-1,\"\")","v":8},4,"z","+",48,"",{"$f":"IF(Worksheet!$B$6=1,\"=\",IF(Worksheet!$B$6=2,CHOOSE(RANDBETWEEN(1,4),\"<\",\">\",\"≤\",\"≥\"),CHOOSE(RANDBETWEEN(1,2),\"=\",CHOOSE(RANDBETWEEN(1,4),\"<\",\">\",\"≤\",\"≥\"))))","v":"="},34,"","–",-3,"z","z","=",-2,{"$f":"RANDBETWEEN(1,Worksheet!$B$12*Q9)*(-1)^RANDBETWEEN(IF(Worksheet!$B$10,1,2),2)","v":-2},{"$f":"IF(Worksheet!$B$11,RANDBETWEEN(1,5),1)","v":1},"z",1,2,4,-3,{"$f":"RANDBETWEEN(1,20)*IF(Worksheet!$B$13,(-1)^RANDBETWEEN(IF(V9<0,2,1),2),2)","v":34},-3,null,{"$f":"IF(ROW()-1<=Worksheet!$B$4/2,Z8+1,\"\")","v":20},4,"s","–",-2,"",{"$f":"IF(Worksheet!$B$6=1,\"=\",IF(Worksheet!$B$6=2,CHOOSE(RANDBETWEEN(1,4),\"<\",\">\",\"≤\",\"≥\"),CHOOSE(RANDBETWEEN(1,2),\"=\",CHOOSE(RANDBETWEEN(1,4),\"<\",\">\",\"≤\",\"≥\"))))","v":"="},26,"","–",-3,"s","s","=",4,{"$f":"RANDBETWEEN(1,Worksheet!$B$12*AP9)*(-1)^RANDBETWEEN(IF(Worksheet!$B$10,1,2),2)","v":4},{"$f":"IF(Worksheet!$B$11,RANDBETWEEN(1,5),1)","v":1},"s",1,2,4,-3,{"$f":"RANDBETWEEN(1,20)*IF(Worksheet!$B$13,(-1)^RANDBETWEEN(IF(AU9<0,2,1),2),2)","v":26},-3]
[{"$f":"IF(ROW()-1<=Worksheet!$B$4/2,ROW()-1,\"\")","v":9},9,"s","+",8,"",{"$f":"IF(Worksheet!$B$6=1,\"=\",IF(Worksheet!$B$6=2,CHOOSE(RANDBETWEEN(1,4),\"<\",\">\",\"≤\",\"≥\"),CHOOSE(RANDBETWEEN(1,2),\"=\",CHOOSE(RANDBETWEEN(1,4),\"<\",\">\",\"≤\",\"≥\"))))","v":"="},8,"s","+",4,"","s","=",-4,{"$f":"RANDBETWEEN(1,Worksheet!$B$12*Q10)*(-1)^RANDBETWEEN(IF(Worksheet!$B$10,1,2),2)","v":-4},{"$f":"IF(Worksheet!$B$11,RANDBETWEEN(1,5),1)","v":1},"s",1,1,9,8,{"$f":"RANDBETWEEN(1,20)*IF(Worksheet!$B$13,(-1)^RANDBETWEEN(IF(V10<0,2,1),2),2)","v":4},8,null,{"$f":"IF(ROW()-1<=Worksheet!$B$4/2,Z9+1,\"\")","v":21},7,"z","+",18,"",{"$f":"IF(Worksheet!$B$6=1,\"=\",IF(Worksheet!$B$6=2,CHOOSE(RANDBETWEEN(1,4),\"<\",\">\",\"≤\",\"≥\"),CHOOSE(RANDBETWEEN(1,2),\"=\",CHOOSE(RANDBETWEEN(1,4),\"<\",\">\",\"≤\",\"≥\"))))","v":"≥"},3,"z","+",6,"","z","≥",-3,{"$f":"RANDBETWEEN(1,Worksheet!$B$12*AP10)*(-1)^RANDBETWEEN(IF(Worksheet!$B$10,1,2),2)","v":-3},{"$f":"IF(Worksheet!$B$11,RANDBETWEEN(1,5),1)","v":1},"z",1,1,7,3,{"$f":"RANDBETWEEN(1,20)*IF(Worksheet!$B$13,(-1)^RANDBETWEEN(IF(AU10<0,2,1),2),2)","v":6},3]
[{"$f":"IF(ROW()-1<=Worksheet!$B$4/2,ROW()-1,\"\")","v":10},7,"m","+",94,"",{"$f":"IF(Worksheet!$B$6=1,\"=\",IF(Worksheet!$B$6=2,CHOOSE(RANDBETWEEN(1,4),\"<\",\">\",\"≤\",\"≥\"),CHOOSE(RANDBETWEEN(1,2),\"=\",CHOOSE(RANDBETWEEN(1,4),\"<\",\">\",\"≤\",\"≥\"))))","v":"="},30,"","–",-1,"m","m","=",-8,{"$f":"RANDBETWEEN(1,Worksheet!$B$12*Q11)*(-1)^RANDBETWEEN(IF(Worksheet!$B$10,1,2),2)","v":-8},{"$f":"IF(Worksheet!$B$11,RANDBETWEEN(1,5),1)","v":1},"m",1,2,7,-1,{"$f":"RANDBETWEEN(1,20)*IF(Worksheet!$B$13,(-1)^RANDBETWEEN(IF(V11<0,2,1),2),2)","v":30},-1,null,{"$f":"IF(ROW()-1<=Worksheet!$B$4/2,Z10+1,\"\")","v":22},9,"x","+",27,"",{"$f":"IF(Worksheet!$B$6=1,\"=\",IF(Worksheet!$B$6=2,CHOOSE(RANDBETWEEN(1,4),\"<\",\">\",\"≤\",\"≥\"),CHOOSE(RANDBETWEEN(1,2),\"=\",CHOOSE(RANDBETWEEN(1,4),\"<\",\">\",\"≤\",\"≥\"))))","v":"="},36,"","+",6,"x","x","=",3,{"$f":"RANDBETWEEN(1,Worksheet!$B$12*AP11)*(-1)^RANDBETWEEN(IF(Worksheet!$B$10,1,2),2)","v":3},{"$f":"IF(Worksheet!$B$11,RANDBETWEEN(1,5),1)","v":1},"x",1,2,9,6,{"$f":"RANDBETWEEN(1,20)*IF(Worksheet!$B$13,(-1)^RANDBETWEEN(IF(AU11<0,2,1),2),2)","v":36},6]
[{"$f":"IF(ROW()-1<=Worksheet!$B$4/2,ROW()-1,\"\")","v":11},7,"q","+",88,"",{"$f":"IF(Worksheet!$B$6=1,\"=\",IF(Worksheet!$B$6=2,CHOOSE(RANDBETWEEN(1,4),\"<\",\">\",\"≤\",\"≥\"),CHOOSE(RANDBETWEEN(1,2),\"=\",CHOOSE(RANDBETWEEN(1,4),\"<\",\">\",\"≤\",\"≥\"))))","v":">"},28,"","+",1,"q","q",">",-10,{"$f":"RANDBETWEEN(1,Worksheet!$B$12*Q12)*(-1)^RANDBETWEEN(IF(Worksheet!$B$10,1,2),2)","v":-10},{"$f":"IF(Worksheet!$B$11,RANDBETWEEN(1,5),1)","v":1},"q",1,2,7,1,{"$f":"RANDBETWEEN(1,20)*IF(Worksheet!$B$13,(-1)^RANDBETWEEN(IF(V12<0,2,1),2),2)","v":28},1,null,{"$f":"IF(ROW()-1<=Worksheet!$B$4/2,Z11+1,\"\")","v":23},5,"j","+",6,"",{"$f":"IF(Worksheet!$B$6=1,\"=\",IF(Worksheet!$B$6=2,CHOOSE(RANDBETWEEN(1,4),\"<\",\">\",\"≤\",\"≥\"),CHOOSE(RANDBETWEEN(1,2),\"=\",CHOOSE(RANDBETWEEN(1,4),\"<\",\">\",\"≤\",\"≥\"))))","v":">"},30,"","+",2,"j","j",">",8,{"$f":"RANDBETWEEN(1,Worksheet!$B$12*AP12)*(-1)^RANDBETWEEN(IF(Worksheet!$B$10,1,2),2)","v":8},{"$f":"IF(Worksheet!$B$11,RANDBETWEEN(1,5),1)","v":1},"j",1,2,5,2,{"$f":"RANDBETWEEN(1,20)*IF(Worksheet!$B$13,(-1)^RANDBETWEEN(IF(AU12<0,2,1),2),2)","v":30},2]
[{"$f":"IF(ROW()-1<=Worksheet!$B$4/2,ROW()-1,\"\")","v":12},4,"v","+",44,"",{"$f":"IF(Worksheet!$B$6=1,\"=\",IF(Worksheet!$B$6=2,CHOOSE(RANDBETWEEN(1,4),\"<\",\">\",\"≤\",\"≥\"),CHOOSE(RANDBETWEEN(1,2),\"=\",CHOOSE(RANDBETWEEN(1,4),\"<\",\">\",\"≤\",\"≥\"))))","v":"="},40,"","+",2,"v","v","=",-2,{"$f":"RANDBETWEEN(1,Worksheet!$B$12*Q13)*(-1)^RANDBETWEEN(IF(Worksheet!$B$10,1,2),2)","v":-2},{"$f":"IF(Worksheet!$B$11,RANDBETWEEN(1,5),1)","v":1},"v",1,2,4,2,{"$f":"RANDBETWEEN(1,20)*IF(Worksheet!$B$13,(-1)^RANDBETWEEN(IF(V13<0,2,1),2),2)","v":40},2,null,{"$f":"IF(ROW()-1<=Worksheet!$B$4/2,Z12+1,\"\")","v":24},6,"a","+",31,"",{"$f":"IF(Worksheet!$B$6=1,\"=\",IF(Worksheet!$B$6=2,CHOOSE(RANDBETWEEN(1,4),\"<\",\">\",\"≤\",\"≥\"),CHOOSE(RANDBETWEEN(1,2),\"=\",CHOOSE(RANDBETWEEN(1,4),\"<\",\">\",\"≤\",\"≥\"))))","v":"="},3,"a","+",22,"","a","=",-3,{"$f":"RANDBETWEEN(1,Worksheet!$B$12*AP13)*(-1)^RANDBETWEEN(IF(Worksheet!$B$10,1,2),2)","v":-3},{"$f":"IF(Worksheet!$B$11,RANDBETWEEN(1,5),1)","v":1},"a",1,1,6,3,{"$f":"RANDBETWEEN(1,20)*IF(Worksheet!$B$13,(-1)^RANDBETWEEN(IF(AU13<0,2,1),2),2)","v":22},3]
[{"$f":"IF(ROW()-1<=Worksheet!$B$4/2,ROW()-1,\"\")","v":""},7,"g","–",-73,"",{"$f":"IF(Worksheet!$B$6=1,\"=\",IF(Worksheet!$B$6=2,CHOOSE(RANDBETWEEN(1,4),\"<\",\">\",\"≤\",\"≥\"),CHOOSE(RANDBETWEEN(1,2),\"=\",CHOOSE(RANDBETWEEN(1,4),\"<\",\">\",\"≤\",\"≥\"))))","v":"≤"},26,"","–",-4,"g","g","≤",9,{"$f":"RANDBETWEEN(1,Worksheet!$B$12*Q14)*(-1)^RANDBETWEEN(IF(Worksheet!$B$10,1,2),2)","v":9},{"$f":"IF(Worksheet!$B$11,RANDBETWEEN(1,5),1)","v":1},"g",1,2,7,-4,{"$f":"RANDBETWEEN(1,20)*IF(Worksheet!$B$13,(-1)^RANDBETWEEN(IF(V14<0,2,1),2),2)","v":26},-4,null,{"$f":"IF(ROW()-1<=Worksheet!$B$4/2,Z13+1,\"\")","v":""},9,"q","–",-58,"",{"$f":"IF(Worksheet!$B$6=1,\"=\",IF(Worksheet!$B$6=2,CHOOSE(RANDBETWEEN(1,4),\"<\",\">\",\"≤\",\"≥\"),CHOOSE(RANDBETWEEN(1,2),\"=\",CHOOSE(RANDBETWEEN(1,4),\"<\",\">\",\"≤\",\"≥\"))))","v":"="},1,"q","+",22,"","q","=",10,{"$f":"RANDBETWEEN(1,Worksheet!$B$12*AP14)*(-1)^RANDBETWEEN(IF(Worksheet!$B$10,1,2),2)","v":10},{"$f":"IF(Worksheet!$B$11,RANDBETWEEN(1,5),1)","v":1},"q",1,1,9,1,{"$f":"RANDBETWEEN(1,20)*IF(Worksheet!$B$13,(-1)^RANDBETWEEN(IF(AU14<0,2,1),2),2)","v":22},1]
[{"$f":"IF(ROW()-1<=Worksheet!$B$4/2,ROW()-1,\"\")","v":""},5,"q","+",28,"",{"$f":"IF(Worksheet!$B$6=1,\"=\",IF(Worksheet!$B$6=2,CHOOSE(RANDBETWEEN(1,4),\"<\",\">\",\"≤\",\"≥\"),CHOOSE(RANDBETWEEN(1,2),\"=\",CHOOSE(RANDBETWEEN(1,4),\"<\",\">\",\"≤\",\"≥\"))))","v":"="},10,"","–",-4,"q","q","=",-2,{"$f":"RANDBETWEEN(1,Worksheet!$B$12*Q15)*(-1)^RANDBETWEEN(IF(Worksheet!$B$10,1,2),2)","v":-2},{"$f":"IF(Worksheet!$B$11,RANDBETWEEN(1,5),1)","v":1},"q",1,2,5,-4,{"$f":"RANDBETWEEN(1,20)*IF(Worksheet!$B$13,(-1)^RANDBETWEEN(IF(V15<0,2,1),2),2)","v":10},-4,null,{"$f":"IF(ROW()-1<=Worksheet!$B$4/2,Z14+1,\"\")","v":""},3,"n","+",8,"",{"$f":"IF(Worksheet!$B$6=1,\"=\",IF(Worksheet!$B$6=2,CHOOSE(RANDBETWEEN(1,4),\"<\",\">\",\"≤\",\"≥\"),CHOOSE(RANDBETWEEN(1,2),\"=\",CHOOSE(RANDBETWEEN(1,4),\"<\",\">\",\"≤\",\"≥\"))))","v":"="},1,"n","+",6,"","n","=",-1,{"$f":"RANDBETWEEN(1,Worksheet!$B$12*AP15)*(-1)^RANDBETWEEN(IF(Worksheet!$B$10,1,2),2)","v":-1},{"$f":"IF(Worksheet!$B$11,RANDBETWEEN(1,5),1)","v":1},"n",1,1,3,1,{"$f":"RANDBETWEEN(1,20)*IF(Worksheet!$B$13,(-1)^RANDBETWEEN(IF(AU15<0,2,1),2),2)","v":6},1]
[{"$f":"IF(ROW()<=Worksheet!$B$4/2,ROW(),\"\")","v":""},null,null,null,null,null,null,null,null,null,null,null,null,null,null,null,null,null,null,null,null,null,null,null,null,{"$f":"IF(ROW()<=Worksheet!$B$4/2,ROW(),\"\")","v":""}]
[{"$f":"IF(ROW()<=Worksheet!$B$4/2,ROW(),\"\")","v":""},null,null,null,null,null,null,null,null,null,null,null,null,null,null,null,null,null,null,null,null,null,null,null,null,{"$f":"IF(ROW()<=Worksheet!$B$4/2,ROW(),\"\")","v":""}]
[{"$f":"IF(ROW()<=Worksheet!$B$4/2,ROW(),\"\")","v":""},null,null,null,null,null,null,null,null,null,null,null,null,null,null,null,null,null,null,null,null,null,null,null,null,{"$f":"IF(ROW()<=Worksheet!$B$4/2,ROW(),\"\")","v":""}]
[{"$f":"IF(ROW()<=Worksheet!$B$4/2,ROW(),\"\")","v":""},null,null,null,null,null,null,null,null,null,null,null,null,null,null,null,null,null,null,null,null,null,null,null,null,{"$f":"IF(ROW()<=Worksheet!$B$4/2,ROW(),\"\")","v":""}]
[{"$f":"IF(ROW()<=Worksheet!$B$4/2,ROW(),\"\")","v":""},null,null,null,null,null,null,null,null,null,null,null,null,null,null,null,null,null,null,null,null,null,null,null,null,{"$f":"IF(ROW()<=Worksheet!$B$4/2,ROW(),\"\")","v":""}]
[{"$f":"IF(ROW()<=Worksheet!$B$4/2,ROW(),\"\")","v":""},null,null,null,null,null,null,null,null,null,null,null,null,null,null,null,null,null,null,null,null,null,null,null,null,{"$f":"IF(ROW()<=Worksheet!$B$4/2,ROW(),\"\")","v":""}]
[{"$f":"IF(ROW()<=Worksheet!$B$4/2,ROW(),\"\")","v":""},null,null,null,null,null,null,null,null,null,null,null,null,null,null,null,null,null,null,null,null,null,null,null,null,{"$f":"IF(ROW()<=Worksheet!$B$4/2,ROW(),\"\")","v":""}]
[{"$f":"IF(ROW()<=Worksheet!$B$4/2,ROW(),\"\")","v":""},null,null,null,null,null,null,null,null,null,null,null,null,null,null,null,null,null,null,null,null,null,null,null,null,{"$f":"IF(ROW()<=Worksheet!$B$4/2,ROW(),\"\")","v":""}]
[{"$f":"IF(ROW()<=Worksheet!$B$4/2,ROW(),\"\")","v":""},null,null,null,null,null,null,null,null,null,null,null,null,null,null,null,null,null,null,null,null,null,null,null,null,{"$f":"IF(ROW()<=Worksheet!$B$4/2,ROW(),\"\")","v":""}]
[{"$f":"IF(ROW()<=Worksheet!$B$4/2,ROW(),\"\")","v":""},null,null,null,null,null,null,null,null,null,null,null,null,null,null,null,null,null,null,null,null,null,null,null,null,{"$f":"IF(ROW()<=Worksheet!$B$4/2,ROW(),\"\")","v":""}]
[{"$f":"IF(ROW()<=Worksheet!$B$4/2,ROW(),\"\")","v":""},null,null,null,null,null,null,null,null,null,null,null,null,null,null,null,null,null,null,null,null,null,null,null,null,{"$f":"IF(ROW()<=Worksheet!$B$4/2,ROW(),\"\")","v":""}]
[{"$f":"IF(ROW()<=Worksheet!$B$4/2,ROW(),\"\")","v":""},null,null,null,null,null,null,null,null,null,null,null,null,null,null,null,null,null,null,null,null,null,null,null,null,{"$f":"IF(ROW()<=Worksheet!$B$4/2,ROW(),\"\")","v":""}]
[{"$f":"IF(ROW()<=Worksheet!$B$4/2,ROW(),\"\")","v":""},null,null,null,null,null,null,null,null,null,null,null,null,null,null,null,null,null,null,null,null,null,null,null,null,{"$f":"IF(ROW()<=Worksheet!$B$4/2,ROW(),\"\")","v":""}]
[{"$f":"IF(ROW()<=Worksheet!$B$4/2,ROW(),\"\")","v":""},null,null,null,null,null,null,null,null,null,null,null,null,null,null,null,null,null,null,null,null,null,null,null,null,{"$f":"IF(ROW()<=Worksheet!$B$4/2,ROW(),\"\")","v":""}]
[{"$f":"IF(ROW()<=Worksheet!$B$4/2,ROW(),\"\")","v":""},null,null,null,null,null,null,null,null,null,null,null,null,null,null,null,null,null,null,null,null,null,null,null,null,{"$f":"IF(ROW()<=Worksheet!$B$4/2,ROW(),\"\")","v":""}]
[{"$f":"IF(ROW()<=Worksheet!$B$4/2,ROW(),\"\")","v":""},null,null,null,null,null,null,null,null,null,null,null,null,null,null,null,null,null,null,null,null,null,null,null,null,{"$f":"IF(ROW()<=Worksheet!$B$4/2,ROW(),\"\")","v":""}]